BEGIN:VCALENDAR
VERSION:2.0
PRODID:icalendar-ruby
CALSCALE:GREGORIAN
METHOD:PUBLISH
BEGIN:VEVENT
DTSTAMP:20260423T232402Z
UID:163-2194623@ourredeemersandiego.org
DTSTART:20260426T164500Z
DTEND:20260426T180000Z
CLASS:PUBLIC
CREATED:20260423T110358
DESCRIPTION:We will be nominating new elders for the upcoming year\, so ple
 ase pray about this to see if you are being called to serve the church in 
 this ministry. If you have any questions about the roles and responsibilit
 ies of the Elders\, please reach out to us at ourredeemer@orlcsd.org\, and
  we can discuss.
LAST-MODIFIED:20260423T110358
LOCATION:
SUMMARY:Congregational Meeting Between Services
URL;VALUE=URI:https://ourredeemersandiego.org/events/congregational-meeting
 -between-services/2026-04-26
END:VEVENT
END:VCALENDAR
